BEGIN:VCALENDAR
VERSION:2.0
X-WR-CALNAME: Upcoming shows
PRODID:GIGPRESS 2.0 WORDPRESS PLUGIN
CALSCALE:GREGORIAN
X-WR-TIMEZONE:Etc/GMT
METHOD:PUBLISH
BEGIN:VTIMEZONE
TZID:GMT
BEGIN:STANDARD
DTSTART:20071028T010000
TZOFFSETTO:+0000
TZOFFSETFROM:+0000
END:STANDARD
END:VTIMEZONE
BEGIN:VEVENT
SUMMARY:Accordion Man at Mama CATENA VINO E' CUCINA
DESCRIPTION:Notes: Enjoy THE BEST SICILIAN  dinners in Cleveland!!  Pasta (with Mama's  secret recipe)\, steaks\, chops\, shrimp\, chicken\, pizza\, calzones  while  Ralph strolls and plays  music and requests! from 5-7\;00 PM. PLEASE call for RESERVATIONS  216-261-1168.  Remember:  We can handle your parties\, small or large!  Save room for a delicious dessert!!  YES\, you can order party trays to go!! Ask about the details!! All Ages
LOCATION:Mama CATENA VINO E' CUCINA\, 711 Babbitt Rd.\, Euclid OH 44123\, US
UID:20260423T210000Z-678-wordpress@dynamicsus.com
URL:https://www.accordionman.com/gigs/
DTSTART;VALUE=DATE-TIME;TZID=GMT:20260423T210000Z
DTEND;VALUE=DATE-TIME;TZID=GMT:20260423T210000Z
DTSTAMP:20260421T123019Z
END:VEVENT
BEGIN:VEVENT
SUMMARY:Accordion Man at Mama CATENA VINO E' CUCINA
DESCRIPTION:Notes: Enjoy THE BEST SICILIAN  dinners in Cleveland!!  Pasta (with Mama's  secret recipe)\, steaks\, chops\, shrimp\, chicken\, pizza\, calzones  while  Ralph strolls and plays  music and requests! from 5-7\;00 PM. PLEASE call for RESERVATIONS  216-261-1168.  Remember:  We can handle your parties\, small or large!  Save room for a delicious dessert!!  YES\, you can order party trays to go!! Ask about the details!! All Ages
LOCATION:Mama CATENA VINO E' CUCINA\, 711 Babbitt Rd.\, Euclid OH 44123\, US
UID:20260430T210000Z-679-wordpress@dynamicsus.com
URL:https://www.accordionman.com/gigs/
DTSTART;VALUE=DATE-TIME;TZID=GMT:20260430T210000Z
DTEND;VALUE=DATE-TIME;TZID=GMT:20260430T210000Z
DTSTAMP:20260421T123019Z
END:VEVENT
BEGIN:VEVENT
SUMMARY:Accordion Man at Mama CATENA VINO E' CUCINA
DESCRIPTION:Notes: Enjoy THE BEST SICILIAN  dinners in Cleveland!!  Pasta (with Mama's  secret recipe)\, steaks\, chops\, shrimp\, chicken\, pizza\, calzones  while  Ralph strolls and plays  music and requests! from 5-7\;00 PM. PLEASE call for RESERVATIONS  216-261-1168.  Remember:  We can handle your parties\, small or large!  Save room for a delicious dessert!!  YES\, you can order party trays to go!! Ask about the details!! All Ages
LOCATION:Mama CATENA VINO E' CUCINA\, 711 Babbitt Rd.\, Euclid OH 44123\, US
UID:20260507T210000Z-680-wordpress@dynamicsus.com
URL:https://www.accordionman.com/gigs/
DTSTART;VALUE=DATE-TIME;TZID=GMT:20260507T210000Z
DTEND;VALUE=DATE-TIME;TZID=GMT:20260507T210000Z
DTSTAMP:20260421T123019Z
END:VEVENT
BEGIN:VEVENT
SUMMARY:Accordion Man at Mama CATENA VINO E' CUCINA
DESCRIPTION:Notes: Enjoy THE BEST SICILIAN  dinners in Cleveland!!  Pasta (with Mama's  secret recipe)\, steaks\, chops\, shrimp\, chicken\, pizza\, calzones  while  Ralph strolls and plays  music and requests! from 5-7\;00 PM. PLEASE call for RESERVATIONS  216-261-1168.  Remember:  We can handle your parties\, small or large!  Save room for a delicious dessert!!  YES\, you can order party trays to go!! Ask about the details!! All Ages
LOCATION:Mama CATENA VINO E' CUCINA\, 711 Babbitt Rd.\, Euclid OH 44123\, US
UID:20260514T210000Z-681-wordpress@dynamicsus.com
URL:https://www.accordionman.com/gigs/
DTSTART;VALUE=DATE-TIME;TZID=GMT:20260514T210000Z
DTEND;VALUE=DATE-TIME;TZID=GMT:20260514T210000Z
DTSTAMP:20260421T123019Z
END:VEVENT
BEGIN:VEVENT
SUMMARY:Accordion Man at Mama CATENA VINO E' CUCINA
DESCRIPTION:Notes: Enjoy THE BEST SICILIAN  dinners in Cleveland!!  Pasta (with Mama's  secret recipe)\, steaks\, chops\, shrimp\, chicken\, pizza\, calzones  while  Ralph strolls and plays  music and requests! from 5-7\;00 PM. PLEASE call for RESERVATIONS  216-261-1168.  Remember:  We can handle your parties\, small or large!  Save room for a delicious dessert!!  YES\, you can order party trays to go!! Ask about the details!! All Ages
LOCATION:Mama CATENA VINO E' CUCINA\, 711 Babbitt Rd.\, Euclid OH 44123\, US
UID:20260521T210000Z-682-wordpress@dynamicsus.com
URL:https://www.accordionman.com/gigs/
DTSTART;VALUE=DATE-TIME;TZID=GMT:20260521T210000Z
DTEND;VALUE=DATE-TIME;TZID=GMT:20260521T210000Z
DTSTAMP:20260421T123019Z
END:VEVENT
BEGIN:VEVENT
SUMMARY:Accordion Man at Mama CATENA VINO E' CUCINA
DESCRIPTION:Notes: Enjoy THE BEST SICILIAN  dinners in Cleveland!!  Pasta (with Mama's  secret recipe)\, steaks\, chops\, shrimp\, chicken\, pizza\, calzones  while  Ralph strolls and plays  music and requests! from 5-7\;00 PM. PLEASE call for RESERVATIONS  216-261-1168.  Remember:  We can handle your parties\, small or large!  Save room for a delicious dessert!!  YES\, you can order party trays to go!! Ask about the details!! All Ages
LOCATION:Mama CATENA VINO E' CUCINA\, 711 Babbitt Rd.\, Euclid OH 44123\, US
UID:20260528T210000Z-683-wordpress@dynamicsus.com
URL:https://www.accordionman.com/gigs/
DTSTART;VALUE=DATE-TIME;TZID=GMT:20260528T210000Z
DTEND;VALUE=DATE-TIME;TZID=GMT:20260528T210000Z
DTSTAMP:20260421T123019Z
END:VEVENT
BEGIN:VEVENT
SUMMARY:Accordion Man at Mama CATENA VINO E' CUCINA
DESCRIPTION:Notes: Enjoy THE BEST SICILIAN  dinners in Cleveland!!  Pasta (with Mama's  secret recipe)\, steaks\, chops\, shrimp\, chicken\, pizza\, calzones  while  Ralph strolls and plays  music and requests! from 5-7\;00 PM. PLEASE call for RESERVATIONS  216-261-1168.  Remember:  We can handle your parties\, small or large!  Save room for a delicious dessert!!  YES\, you can order party trays to go!! Ask about the details!! All Ages
LOCATION:Mama CATENA VINO E' CUCINA\, 711 Babbitt Rd.\, Euclid OH 44123\, US
UID:20260604T210000Z-684-wordpress@dynamicsus.com
URL:https://www.accordionman.com/gigs/
DTSTART;VALUE=DATE-TIME;TZID=GMT:20260604T210000Z
DTEND;VALUE=DATE-TIME;TZID=GMT:20260604T210000Z
DTSTAMP:20260421T123019Z
END:VEVENT
BEGIN:VEVENT
SUMMARY:Accordion Man at Mama CATENA VINO E' CUCINA
DESCRIPTION:Notes: Enjoy THE BEST SICILIAN  dinners in Cleveland!!  Pasta (with Mama's  secret recipe)\, steaks\, chops\, shrimp\, chicken\, pizza\, calzones  while  Ralph strolls and plays  music and requests! from 5-7\;00 PM. PLEASE call for RESERVATIONS  216-261-1168.  Remember:  We can handle your parties\, small or large!  Save room for a delicious dessert!!  YES\, you can order party trays to go!! Ask about the details!! All Ages
LOCATION:Mama CATENA VINO E' CUCINA\, 711 Babbitt Rd.\, Euclid OH 44123\, US
UID:20260611T210000Z-685-wordpress@dynamicsus.com
URL:https://www.accordionman.com/gigs/
DTSTART;VALUE=DATE-TIME;TZID=GMT:20260611T210000Z
DTEND;VALUE=DATE-TIME;TZID=GMT:20260611T210000Z
DTSTAMP:20260421T123019Z
END:VEVENT
BEGIN:VEVENT
SUMMARY:Accordion Man at Mama CATENA VINO E' CUCINA
DESCRIPTION:Notes: Enjoy THE BEST SICILIAN  dinners in Cleveland!!  Pasta (with Mama's  secret recipe)\, steaks\, chops\, shrimp\, chicken\, pizza\, calzones  while  Ralph strolls and plays  music and requests! from 5-7\;00 PM. PLEASE call for RESERVATIONS  216-261-1168.  Remember:  We can handle your parties\, small or large!  Save room for a delicious dessert!!  YES\, you can order party trays to go!! Ask about the details!! All Ages
LOCATION:Mama CATENA VINO E' CUCINA\, 711 Babbitt Rd.\, Euclid OH 44123\, US
UID:20260618T210000Z-686-wordpress@dynamicsus.com
URL:https://www.accordionman.com/gigs/
DTSTART;VALUE=DATE-TIME;TZID=GMT:20260618T210000Z
DTEND;VALUE=DATE-TIME;TZID=GMT:20260618T210000Z
DTSTAMP:20260421T123019Z
END:VEVENT
BEGIN:VEVENT
SUMMARY:Accordion Man at Mama CATENA VINO E' CUCINA
DESCRIPTION:Notes: Enjoy THE BEST SICILIAN  dinners in Cleveland!!  Pasta (with Mama's  secret recipe)\, steaks\, chops\, shrimp\, chicken\, pizza\, calzones  while  Ralph strolls and plays  music and requests! from 5-7\;00 PM. PLEASE call for RESERVATIONS  216-261-1168.  Remember:  We can handle your parties\, small or large!  Save room for a delicious dessert!!  YES\, you can order party trays to go!! Ask about the details!! All Ages
LOCATION:Mama CATENA VINO E' CUCINA\, 711 Babbitt Rd.\, Euclid OH 44123\, US
UID:20260625T210000Z-687-wordpress@dynamicsus.com
URL:https://www.accordionman.com/gigs/
DTSTART;VALUE=DATE-TIME;TZID=GMT:20260625T210000Z
DTEND;VALUE=DATE-TIME;TZID=GMT:20260625T210000Z
DTSTAMP:20260421T123019Z
END:VEVENT
BEGIN:VEVENT
SUMMARY:Accordion Man at Mama CATENA VINO E' CUCINA
DESCRIPTION:Notes: Enjoy THE BEST SICILIAN  dinners in Cleveland!!  Pasta (with Mama's  secret recipe)\, steaks\, chops\, shrimp\, chicken\, pizza\, calzones  while  Ralph strolls and plays  music and requests! from 5-7\;00 PM. PLEASE call for RESERVATIONS  216-261-1168.  Remember:  We can handle your parties\, small or large!  Save room for a delicious dessert!!  YES\, you can order party trays to go!! Ask about the details!! All Ages
LOCATION:Mama CATENA VINO E' CUCINA\, 711 Babbitt Rd.\, Euclid OH 44123\, US
UID:20260702T210000Z-688-wordpress@dynamicsus.com
URL:https://www.accordionman.com/gigs/
DTSTART;VALUE=DATE-TIME;TZID=GMT:20260702T210000Z
DTEND;VALUE=DATE-TIME;TZID=GMT:20260702T210000Z
DTSTAMP:20260421T123019Z
END:VEVENT
BEGIN:VEVENT
SUMMARY:Accordion Man at Mama CATENA VINO E' CUCINA
DESCRIPTION:Notes: Enjoy THE BEST SICILIAN  dinners in Cleveland!!  Pasta (with Mama's  secret recipe)\, steaks\, chops\, shrimp\, chicken\, pizza\, calzones  while  Ralph strolls and plays  music and requests! from 5-7\;00 PM. PLEASE call for RESERVATIONS  216-261-1168.  Remember:  We can handle your parties\, small or large!  Save room for a delicious dessert!!  YES\, you can order party trays to go!! Ask about the details!! All Ages
LOCATION:Mama CATENA VINO E' CUCINA\, 711 Babbitt Rd.\, Euclid OH 44123\, US
UID:20260709T210000Z-690-wordpress@dynamicsus.com
URL:https://www.accordionman.com/gigs/
DTSTART;VALUE=DATE-TIME;TZID=GMT:20260709T210000Z
DTEND;VALUE=DATE-TIME;TZID=GMT:20260709T210000Z
DTSTAMP:20260421T123019Z
END:VEVENT
BEGIN:VEVENT
SUMMARY:Accordion Man at Mama CATENA VINO E' CUCINA
DESCRIPTION:Notes: Enjoy THE BEST SICILIAN  dinners in Cleveland!!  Pasta (with Mama's  secret recipe)\, steaks\, chops\, shrimp\, chicken\, pizza\, calzones  while  Ralph strolls and plays  music and requests! from 5-7\;00 PM. PLEASE call for RESERVATIONS  216-261-1168.  Remember:  We can handle your parties\, small or large!  Save room for a delicious dessert!!  YES\, you can order party trays to go!! Ask about the details!! All Ages
LOCATION:Mama CATENA VINO E' CUCINA\, 711 Babbitt Rd.\, Euclid OH 44123\, US
UID:20260716T210000Z-692-wordpress@dynamicsus.com
URL:https://www.accordionman.com/gigs/
DTSTART;VALUE=DATE-TIME;TZID=GMT:20260716T210000Z
DTEND;VALUE=DATE-TIME;TZID=GMT:20260716T210000Z
DTSTAMP:20260421T123019Z
END:VEVENT
BEGIN:VEVENT
SUMMARY:Accordion Man at Mama CATENA VINO E' CUCINA
DESCRIPTION:Notes: Enjoy THE BEST SICILIAN  dinners in Cleveland!!  Pasta (with Mama's  secret recipe)\, steaks\, chops\, shrimp\, chicken\, pizza\, calzones  while  Ralph strolls and plays  music and requests! from 5-7\;00 PM. PLEASE call for RESERVATIONS  216-261-1168.  Remember:  We can handle your parties\, small or large!  Save room for a delicious dessert!!  YES\, you can order party trays to go!! Ask about the details!! All Ages
LOCATION:Mama CATENA VINO E' CUCINA\, 711 Babbitt Rd.\, Euclid OH 44123\, US
UID:20260723T210000Z-693-wordpress@dynamicsus.com
URL:https://www.accordionman.com/gigs/
DTSTART;VALUE=DATE-TIME;TZID=GMT:20260723T210000Z
DTEND;VALUE=DATE-TIME;TZID=GMT:20260723T210000Z
DTSTAMP:20260421T123019Z
END:VEVENT
BEGIN:VEVENT
SUMMARY:Accordion Man at Mama CATENA VINO E' CUCINA
DESCRIPTION:Notes: Enjoy THE BEST SICILIAN  dinners in Cleveland!!  Pasta (with Mama's  secret recipe)\, steaks\, chops\, shrimp\, chicken\, pizza\, calzones  while  Ralph strolls and plays  music and requests! from 5-7\;00 PM. PLEASE call for RESERVATIONS  216-261-1168.  Remember:  We can handle your parties\, small or large!  Save room for a delicious dessert!!  YES\, you can order party trays to go!! Ask about the details!! All Ages
LOCATION:Mama CATENA VINO E' CUCINA\, 711 Babbitt Rd.\, Euclid OH 44123\, US
UID:20260730T210000Z-694-wordpress@dynamicsus.com
URL:https://www.accordionman.com/gigs/
DTSTART;VALUE=DATE-TIME;TZID=GMT:20260730T210000Z
DTEND;VALUE=DATE-TIME;TZID=GMT:20260730T210000Z
DTSTAMP:20260421T123019Z
END:VEVENT
END:VCALENDAR